BEGIN:VCALENDAR
VERSION:2.0
PRODID:-//Argentine Eats - ECPv6.15.20//NONSGML v1.0//EN
CALSCALE:GREGORIAN
METHOD:PUBLISH
X-ORIGINAL-URL:https://argentineeats.com
X-WR-CALDESC:Events for Argentine Eats
REFRESH-INTERVAL;VALUE=DURATION:PT1H
X-Robots-Tag:noindex
X-PUBLISHED-TTL:PT1H
BEGIN:VTIMEZONE
TZID:America/New_York
BEGIN:DAYLIGHT
TZOFFSETFROM:-0500
TZOFFSETTO:-0400
TZNAME:EDT
DTSTART:20240310T070000
END:DAYLIGHT
BEGIN:STANDARD
TZOFFSETFROM:-0400
TZOFFSETTO:-0500
TZNAME:EST
DTSTART:20241103T060000
END:STANDARD
BEGIN:DAYLIGHT
TZOFFSETFROM:-0500
TZOFFSETTO:-0400
TZNAME:EDT
DTSTART:20250309T070000
END:DAYLIGHT
BEGIN:STANDARD
TZOFFSETFROM:-0400
TZOFFSETTO:-0500
TZNAME:EST
DTSTART:20251102T060000
END:STANDARD
BEGIN:DAYLIGHT
TZOFFSETFROM:-0500
TZOFFSETTO:-0400
TZNAME:EDT
DTSTART:20260308T070000
END:DAYLIGHT
BEGIN:STANDARD
TZOFFSETFROM:-0400
TZOFFSETTO:-0500
TZNAME:EST
DTSTART:20261101T060000
END:STANDARD
END:VTIMEZONE
BEGIN:VEVENT
DTSTART;TZID=America/New_York:20251206T110000
DTEND;TZID=America/New_York:20251206T190000
DTSTAMP:20260425T000855
CREATED:20251029T162932Z
LAST-MODIFIED:20251029T162932Z
UID:1578-1765018800-1765047600@argentineeats.com
SUMMARY:Smorgasburg Atlanta 🍴✨
DESCRIPTION:Hey food lovers! 👋 \nThe legendary Smorgasburg — originally from New York City 🗽 — is now in Atlanta\, bringing together the best local flavors\, culture\, and community every weekend! \n📅 Our Schedule:Catch us at Smorgasburg Atlanta every Saturday through December 13th\, 2025. \n🕒 Time:11:00 a.m. – 7:00 p.m. \n📍 Location:South Downtown — 134 Forsyth Street SW\, Atlanta \n🍴 What to expect: \n\n\n40+ amazing local food vendors & pop-ups 😋 \n\n\nArtisan makers & one-of-a-kind retail finds 🎨🛍️ \n\n\nA full bar with wine\, beer & seasonal cocktails 🍷🍺🍹 \n\n\nA festive\, family-friendly atmosphere filled with music & good vibes 🎶✨ \n\n\nCome by our booth to try our authentic Argentine empanadas\, choripanes\, and our signature chimichurri sauce — made with love and bold flavor 🇦🇷💚
URL:https://argentineeats.com/event/smorgasburg-atlanta-%f0%9f%8d%b4%e2%9c%a8-6/
LOCATION:Smorgasburg Atlanta\, 140 Forsyth St SW\, Atlanta\, 30303\, United States
END:VEVENT
BEGIN:VEVENT
DTSTART;TZID=America/New_York:20251207T130000
DTEND;TZID=America/New_York:20251207T180000
DTSTAMP:20260425T000855
CREATED:20251029T164220Z
LAST-MODIFIED:20251029T164220Z
UID:1588-1765112400-1765130400@argentineeats.com
SUMMARY:Variant Brewing Co.
DESCRIPTION:
URL:https://argentineeats.com/event/variant-brewing-co-2/
LOCATION:Varian Brewing Co\, 66 Norcross St\, Roswell\, GA\, 30075\, United States
END:VEVENT
BEGIN:VEVENT
DTSTART;TZID=America/New_York:20251213T100000
DTEND;TZID=America/New_York:20251213T170000
DTSTAMP:20260425T000855
CREATED:20251029T163315Z
LAST-MODIFIED:20251029T163315Z
UID:1577-1765620000-1765645200@argentineeats.com
SUMMARY:ATL HOLIDAY MARKET
DESCRIPTION:🎄🎅 THE ATL HOLIDAY MARKET RETURNS TO PIEDMONT PARK ON DECEMBER 13th & 14th\, FROM 10 AM TO 5 PM. SAVE THE DATE\, THIS IS AN EVENT FOR THE WHOLE FAMILY. \n🎁 Get your Holiday gift shopping done with local artists\, small businesses\, creatives\, and entrepreneurs in Piedmont Park.
URL:https://argentineeats.com/event/atl-holiday-market/
LOCATION:Piedmont Park\, Piedmont Park Ave\, Atlanta\, GA\, 30309\, United States
END:VEVENT
BEGIN:VEVENT
DTSTART;TZID=America/New_York:20251214T100000
DTEND;TZID=America/New_York:20251214T170000
DTSTAMP:20260425T000855
CREATED:20250902T202752Z
LAST-MODIFIED:20250902T202752Z
UID:1539-1765706400-1765731600@argentineeats.com
SUMMARY:ATL HOLIDAY MARKET
DESCRIPTION:THE ATL HOLIDAY MARKET RETURNS TO PIEDMONT PARK ON DECEMBER 13th & 14th\, FROM 10 AM TO 5 PM. SAVE THE DATE\, THIS IS AN EVENT FOR THE WHOLE FAMILY. \n Get your Holiday gift shopping done with local artists\, small businesses\, creatives\, and entrepreneurs in Piedmont Park.
URL:https://argentineeats.com/event/atl-holiday-market-2/
LOCATION:Piedmont Park\, Piedmont Park Ave\, Atlanta\, GA\, 30309\, United States
END:VEVENT
END:VCALENDAR